Package: apComplex Version: 2.70.0 Command: /home/biocbuild/bbs-3.19-bioc/R/bin/R CMD build --keep-empty-dirs --no-resave-data apComplex StartedAt: 2024-10-16 16:55:42 -0400 (Wed, 16 Oct 2024) EndedAt: 2024-10-16 16:56:03 -0400 (Wed, 16 Oct 2024) EllapsedTime: 21.0 seconds RetCode: 0 Status: OK PackageFile: apComplex_2.70.0.tar.gz PackageFileSize: 627.3 KiB