Package: apComplex Version: 2.70.0 Command: /home/biocbuild/bbs-3.19-bioc/R/bin/R CMD INSTALL apComplex StartedAt: 2024-10-16 16:07:01 -0400 (Wed, 16 Oct 2024) EndedAt: 2024-10-16 16:07:15 -0400 (Wed, 16 Oct 2024) EllapsedTime: 14.4 seconds RetCode: 0 Status: OK