Package: apComplex Version: 2.70.0 Command: chmod a+r apComplex -R && F:\biocbuild\bbs-3.19-bioc\R\bin\R.exe CMD build --keep-empty-dirs --no-resave-data apComplex StartedAt: 2024-06-26 17:05:57 -0400 (Wed, 26 Jun 2024) EndedAt: 2024-06-26 17:06:26 -0400 (Wed, 26 Jun 2024) EllapsedTime: 29.5 seconds RetCode: 0 Status: OK PackageFile: apComplex_2.70.0.tar.gz PackageFileSize: 628.5 KiB