Package: apComplex Version: 2.70.0 Command: F:\biocbuild\bbs-3.19-bioc\R\bin\R.exe CMD check --no-multiarch --install=check:apComplex.install-out.txt --library=F:\biocbuild\bbs-3.19-bioc\R\library --no-vignettes --timings apComplex_2.70.0.tar.gz StartedAt: 2024-06-26 22:57:55 -0400 (Wed, 26 Jun 2024) EndedAt: 2024-06-26 23:00:07 -0400 (Wed, 26 Jun 2024) EllapsedTime: 131.3 seconds RetCode: 0 Status: OK CheckDir: apComplex.Rcheck Warnings: 0