Package: apComplex Version: 2.70.0 Command: chmod a+r apComplex -R && E:\biocbuild\bbs-3.19-bioc\R\bin\R.exe CMD build --keep-empty-dirs --no-resave-data apComplex StartedAt: 2024-10-16 17:34:24 -0400 (Wed, 16 Oct 2024) EndedAt: 2024-10-16 17:34:58 -0400 (Wed, 16 Oct 2024) EllapsedTime: 34.2 seconds RetCode: 0 Status: OK PackageFile: apComplex_2.70.0.tar.gz PackageFileSize: 628.5 KiB