Package: arrayMvout Version: 1.62.0 Command: rm -rf arrayMvout.buildbin-libdir && mkdir arrayMvout.buildbin-libdir && /Users/biocbuild/BBS/utils/build-universal.sh arrayMvout_1.62.0.tar.gz /Library/Frameworks/R.framework/Resources/bin/R arrayMvout.buildbin-libdir StartedAt: 2024-10-18 17:18:11 -0400 (Fri, 18 Oct 2024) EndedAt: 2024-10-18 17:19:24 -0400 (Fri, 18 Oct 2024) EllapsedTime: 72.6 seconds RetCode: 0 Status: OK PackageFile: arrayMvout_1.62.0.tgz PackageFileSize: 850.4 KiB