Package: arrayMvout Version: 1.62.0 Command: /Library/Frameworks/R.framework/Resources/bin/R CMD check --install=check:arrayMvout.install-out.txt --library=/Library/Frameworks/R.framework/Resources/library --no-vignettes --timings arrayMvout_1.62.0.tar.gz StartedAt: 2024-06-10 07:29:47 -0400 (Mon, 10 Jun 2024) EndedAt: 2024-06-10 07:37:34 -0400 (Mon, 10 Jun 2024) EllapsedTime: 466.2 seconds RetCode: 0 Status: OK CheckDir: arrayMvout.Rcheck Warnings: 0