Package: arrayMvout Version: 1.62.0 Command: rm -rf arrayMvout.buildbin-libdir && mkdir arrayMvout.buildbin-libdir && /Users/biocbuild/BBS/utils/build-universal.sh arrayMvout_1.62.0.tar.gz /Library/Frameworks/R.framework/Resources/bin/R arrayMvout.buildbin-libdir StartedAt: 2024-06-10 00:06:47 -0400 (Mon, 10 Jun 2024) EndedAt: 2024-06-10 00:07:53 -0400 (Mon, 10 Jun 2024) EllapsedTime: 65.7 seconds RetCode: 0 Status: OK PackageFile: arrayMvout_1.62.0.tgz PackageFileSize: 854.1 KiB