Package: arrayQualityMetrics Version: 3.60.0 Command: /Library/Frameworks/R.framework/Resources/bin/R CMD INSTALL arrayQualityMetrics StartedAt: 2024-10-16 17:50:09 -0400 (Wed, 16 Oct 2024) EndedAt: 2024-10-16 17:50:38 -0400 (Wed, 16 Oct 2024) EllapsedTime: 28.8 seconds RetCode: 0 Status: OK