Package: arrayQualityMetrics Version: 3.60.0 Command: rm -rf arrayQualityMetrics.buildbin-libdir && mkdir arrayQualityMetrics.buildbin-libdir && F:\biocbuild\bbs-3.19-bioc\R\bin\R.exe CMD INSTALL --build --library=arrayQualityMetrics.buildbin-libdir arrayQualityMetrics_3.60.0.tar.gz StartedAt: 2024-06-27 07:50:13 -0400 (Thu, 27 Jun 2024) EndedAt: 2024-06-27 07:50:52 -0400 (Thu, 27 Jun 2024) EllapsedTime: 39.4 seconds RetCode: 0 Status: OK PackageFile: arrayQualityMetrics_3.60.0.zip PackageFileSize: 566 KiB