Package: atena Version: 1.10.0 Command: /Library/Frameworks/R.framework/Resources/bin/R CMD build --keep-empty-dirs --no-resave-data atena StartedAt: 2024-10-16 17:07:34 -0400 (Wed, 16 Oct 2024) EndedAt: 2024-10-16 17:42:12 -0400 (Wed, 16 Oct 2024) EllapsedTime: 2077.2 seconds RetCode: 0 Status: OK PackageFile: atena_1.10.0.tar.gz PackageFileSize: 1.282 MiB