Package: atena Version: 1.10.0 Command: /home/biocbuild/bbs-3.19-bioc/R/bin/R CMD INSTALL atena StartedAt: 2024-10-16 16:04:55 -0400 (Wed, 16 Oct 2024) EndedAt: 2024-10-16 16:05:37 -0400 (Wed, 16 Oct 2024) EllapsedTime: 42.4 seconds RetCode: 0 Status: OK