Package: atena Version: 1.10.0 Command: E:\biocbuild\bbs-3.19-bioc\R\bin\R.exe CMD INSTALL atena StartedAt: 2024-10-16 16:28:54 -0400 (Wed, 16 Oct 2024) EndedAt: 2024-10-16 16:29:51 -0400 (Wed, 16 Oct 2024) EllapsedTime: 57.1 seconds RetCode: 0 Status: OK