Package: ballgown Version: 2.36.0 Command: /Library/Frameworks/R.framework/Resources/bin/R CMD INSTALL ballgown StartedAt: 2024-10-16 18:02:32 -0400 (Wed, 16 Oct 2024) EndedAt: 2024-10-16 18:03:17 -0400 (Wed, 16 Oct 2024) EllapsedTime: 45.1 seconds RetCode: 0 Status: OK