Package: ballgown Version: 2.36.0 Command: /Library/Frameworks/R.framework/Resources/bin/R CMD INSTALL ballgown StartedAt: 2024-06-09 16:59:32 -0400 (Sun, 09 Jun 2024) EndedAt: 2024-06-09 17:00:19 -0400 (Sun, 09 Jun 2024) EllapsedTime: 47.1 seconds RetCode: 0 Status: OK