Package: bambu Version: 3.6.0 Command: rm -rf bambu.buildbin-libdir && mkdir bambu.buildbin-libdir && /Users/biocbuild/BBS/utils/build-universal.sh bambu_3.6.0.tar.gz /Library/Frameworks/R.framework/Resources/bin/R bambu.buildbin-libdir StartedAt: 2024-10-18 17:21:49 -0400 (Fri, 18 Oct 2024) EndedAt: 2024-10-18 17:23:07 -0400 (Fri, 18 Oct 2024) EllapsedTime: 78.2 seconds RetCode: 0 Status: OK PackageFile: bambu_3.6.0.tgz PackageFileSize: 2.089 MiB