Package: bambu Version: 3.6.0 Command: /Library/Frameworks/R.framework/Resources/bin/R CMD build --keep-empty-dirs --no-resave-data bambu StartedAt: 2024-10-16 19:44:41 -0400 (Wed, 16 Oct 2024) EndedAt: 2024-10-16 19:58:04 -0400 (Wed, 16 Oct 2024) EllapsedTime: 803.0 seconds RetCode: 0 Status: OK PackageFile: bambu_3.6.0.tar.gz PackageFileSize: 2.29 MiB