Package: bambu Version: 3.6.0 Command: /Library/Frameworks/R.framework/Resources/bin/R CMD INSTALL bambu StartedAt: 2024-10-16 16:43:26 -0400 (Wed, 16 Oct 2024) EndedAt: 2024-10-16 16:44:28 -0400 (Wed, 16 Oct 2024) EllapsedTime: 62.4 seconds RetCode: 0 Status: OK