Package: bambu Version: 3.6.0 Command: /home/biocbuild/bbs-3.19-bioc/R/bin/R CMD build --keep-empty-dirs --no-resave-data bambu StartedAt: 2024-10-16 17:00:37 -0400 (Wed, 16 Oct 2024) EndedAt: 2024-10-16 17:40:37 -0400 (Wed, 16 Oct 2024) EllapsedTime: 2401.0 seconds RetCode: None Status: TIMEOUT PackageFile: None PackageFileSize: NA