Package: bambu Version: 3.6.0 Command: /home/biocbuild/bbs-3.19-bioc/R/bin/R CMD check --install=check:bambu.install-out.txt --library=/home/biocbuild/bbs-3.19-bioc/R/site-library --timings bambu_3.6.0.tar.gz StartedAt: 2024-10-09 20:45:23 -0400 (Wed, 09 Oct 2024) EndedAt: 2024-10-09 21:04:13 -0400 (Wed, 09 Oct 2024) EllapsedTime: 1130.1 seconds RetCode: 0 Status: OK CheckDir: bambu.Rcheck Warnings: 0