Package: bambu Version: 3.6.0 Command: F:\biocbuild\bbs-3.19-bioc\R\bin\R.exe CMD INSTALL bambu StartedAt: 2024-06-26 16:10:59 -0400 (Wed, 26 Jun 2024) EndedAt: 2024-06-26 16:12:23 -0400 (Wed, 26 Jun 2024) EllapsedTime: 83.5 seconds RetCode: 0 Status: OK