Package: bambu Version: 3.6.0 Command: rm -rf bambu.buildbin-libdir && mkdir bambu.buildbin-libdir && E:\biocbuild\bbs-3.19-bioc\R\bin\R.exe CMD INSTALL --build --library=bambu.buildbin-libdir bambu_3.6.0.tar.gz StartedAt: 2024-10-17 07:21:46 -0400 (Thu, 17 Oct 2024) EndedAt: 2024-10-17 07:23:38 -0400 (Thu, 17 Oct 2024) EllapsedTime: 111.6 seconds RetCode: 0 Status: OK PackageFile: bambu_3.6.0.zip PackageFileSize: 2.141 MiB