Package: bandle Version: 1.8.0 Command: /home/biocbuild/bbs-3.19-bioc/R/bin/R CMD build --keep-empty-dirs --no-resave-data bandle StartedAt: 2024-10-16 17:00:53 -0400 (Wed, 16 Oct 2024) EndedAt: 2024-10-16 17:07:59 -0400 (Wed, 16 Oct 2024) EllapsedTime: 426.7 seconds RetCode: 0 Status: OK PackageFile: bandle_1.8.0.tar.gz PackageFileSize: 1.537 MiB