############################################################################## ############################################################################## ### ### Running command: ### ### /Library/Frameworks/R.framework/Resources/bin/R CMD check --install=check:basecallQC.install-out.txt --library=/Library/Frameworks/R.framework/Resources/library --no-vignettes --timings basecallQC_1.28.0.tar.gz ### ############################################################################## ############################################################################## * using log directory ‘/Users/biocbuild/bbs-3.19-bioc/meat/basecallQC.Rcheck’ * using R version 4.4.1 (2024-06-14) * using platform: x86_64-apple-darwin20 * R was compiled by Apple clang version 14.0.0 (clang-1400.0.29.202) GNU Fortran (GCC) 12.2.0 * running under: macOS Monterey 12.7.6 * using session charset: UTF-8 * using option ‘--no-vignettes’ * checking for file ‘basecallQC/DESCRIPTION’ ... OK * checking extension type ... Package * this is package ‘basecallQC’ version ‘1.28.0’ * checking package namespace information ... OK * checking package dependencies ... OK * checking if this is a source package ... OK * checking if there is a namespace ... OK * checking for hidden files and directories ... OK * checking for portable file names ... OK * checking for sufficient/correct file permissions ... OK * checking whether package ‘basecallQC’ can be installed ... OK * checking installed package size ... OK * checking package directory ... OK * checking ‘build’ directory ... OK * checking DESCRIPTION meta-information ... OK * checking top-level files ... OK * checking for left-over files ... OK * checking index information ... OK * checking package subdirectories ... OK * checking code files for non-ASCII characters ... OK * checking R files for syntax errors ... OK * checking whether the package can be loaded ... OK * checking whether the package can be loaded with stated dependencies ... OK * checking whether the package can be unloaded cleanly ... OK * checking whether the namespace can be loaded with stated dependencies ... OK * checking whether the namespace can be unloaded cleanly ... OK * checking dependencies in R code ... OK * checking S3 generic/method consistency ... OK * checking replacement functions ... OK * checking foreign function calls ... OK * checking R code for possible problems ... OK * checking Rd files ... NOTE checkRd: (-1) BCL2FastQparams.Rd:39: Lost braces in \itemize; meant \describe ? checkRd: (-1) BCL2FastQparams.Rd:40: Lost braces in \itemize; meant \describe ? checkRd: (-1) BCL2FastQparams.Rd:41-42: Lost braces in \itemize; meant \describe ? checkRd: (-1) basecallQC.Rd:39: Lost braces in \itemize; meant \describe ? checkRd: (-1) basecallQC.Rd:40-42: Lost braces in \itemize; meant \describe ? checkRd: (-1) basecallQC.Rd:43-44: Lost braces in \itemize; meant \describe ? checkRd: (-1) basecallQC.Rd:45-46: Lost braces in \itemize; meant \describe ? checkRd: (-1) basecallQC.Rd:47-48: Lost braces in \itemize; meant \describe ? checkRd: (-1) basecallQC.Rd:49-50: Lost braces in \itemize; meant \describe ? checkRd: (-1) basecallQC.Rd:51-52: Lost braces in \itemize; meant \describe ? checkRd: (-1) interOpsReport.Rd:32-33: Lost braces in \itemize; meant \describe ? checkRd: (-1) interOpsReport.Rd:34-37: Lost braces in \itemize; meant \describe ? checkRd: (-1) interOpsReport.Rd:38-41: Lost braces in \itemize; meant \describe ? * checking Rd metadata ... OK * checking Rd cross-references ... OK * checking for missing documentation entries ... OK * checking for code/documentation mismatches ... OK * checking Rd \usage sections ... OK * checking Rd contents ... OK * checking for unstated dependencies in examples ... OK * checking files in ‘vignettes’ ... OK * checking examples ... OK Examples with CPU (user + system) or elapsed time > 5s user system elapsed reportBCL 18.902 0.511 23.243 demuxBarplot 14.577 0.149 18.395 baseCallMetrics 13.927 0.457 17.916 summaryDemuxTable 13.878 0.114 16.449 demuxBoxplot 13.113 0.123 16.627 passFilterBar 13.071 0.124 15.988 passFilterBoxplot 12.953 0.123 16.087 passFilterTileplot 12.943 0.111 15.914 basecallQC 12.912 0.124 16.499 makeFQTable 12.884 0.102 15.951 summaryConvStatsTable 12.822 0.104 15.451 * checking for unstated dependencies in ‘tests’ ... OK * checking tests ... Running ‘testthat.R’ OK * checking for unstated dependencies in vignettes ... OK * checking package vignettes ... OK * checking running R code from vignettes ... SKIPPED * checking re-building of vignette outputs ... SKIPPED * checking PDF version of manual ... OK * DONE Status: 1 NOTE See ‘/Users/biocbuild/bbs-3.19-bioc/meat/basecallQC.Rcheck/00check.log’ for details.