Package: basecallQC Version: 1.28.0 Command: F:\biocbuild\bbs-3.19-bioc\R\bin\R.exe CMD INSTALL basecallQC StartedAt: 2024-06-26 16:17:13 -0400 (Wed, 26 Jun 2024) EndedAt: 2024-06-26 16:18:24 -0400 (Wed, 26 Jun 2024) EllapsedTime: 71.3 seconds RetCode: 0 Status: OK