Package: basecallQC Version: 1.28.0 Command: chmod a+r basecallQC -R && E:\biocbuild\bbs-3.19-bioc\R\bin\R.exe CMD build --keep-empty-dirs --no-resave-data basecallQC StartedAt: 2024-10-16 17:39:47 -0400 (Wed, 16 Oct 2024) EndedAt: 2024-10-16 17:41:32 -0400 (Wed, 16 Oct 2024) EllapsedTime: 104.8 seconds RetCode: 0 Status: OK PackageFile: basecallQC_1.28.0.tar.gz PackageFileSize: 1.394 MiB