Package: basilisk.utils Version: 1.16.0 Command: /home/biocbuild/bbs-3.19-bioc/R/bin/R CMD build --keep-empty-dirs --no-resave-data basilisk.utils StartedAt: 2024-10-16 17:03:00 -0400 (Wed, 16 Oct 2024) EndedAt: 2024-10-16 17:03:04 -0400 (Wed, 16 Oct 2024) EllapsedTime: 4.0 seconds RetCode: 0 Status: OK PackageFile: basilisk.utils_1.16.0.tar.gz PackageFileSize: 234.7 KiB