Package: basilisk.utils Version: 1.16.0 Command: /home/biocbuild/bbs-3.19-bioc/R/bin/R CMD INSTALL basilisk.utils StartedAt: 2024-10-16 15:52:29 -0400 (Wed, 16 Oct 2024) EndedAt: 2024-10-16 15:52:35 -0400 (Wed, 16 Oct 2024) EllapsedTime: 6.4 seconds RetCode: 0 Status: OK