Package: basilisk.utils Version: 1.16.0 Command: E:\biocbuild\bbs-3.19-bioc\R\bin\R.exe CMD check --no-multiarch --install=check:basilisk.utils.install-out.txt --library=E:\biocbuild\bbs-3.19-bioc\R\library --no-vignettes --timings basilisk.utils_1.16.0.tar.gz StartedAt: 2024-10-16 23:02:45 -0400 (Wed, 16 Oct 2024) EndedAt: 2024-10-16 23:03:17 -0400 (Wed, 16 Oct 2024) EllapsedTime: 31.3 seconds RetCode: 0 Status: OK CheckDir: basilisk.utils.Rcheck Warnings: 0