Package: beachmat.hdf5 Version: 1.2.0 Command: /Library/Frameworks/R.framework/Resources/bin/R CMD build --keep-empty-dirs --no-resave-data beachmat.hdf5 StartedAt: 2024-10-16 19:59:55 -0400 (Wed, 16 Oct 2024) EndedAt: 2024-10-16 20:01:25 -0400 (Wed, 16 Oct 2024) EllapsedTime: 90.0 seconds RetCode: 0 Status: OK PackageFile: beachmat.hdf5_1.2.0.tar.gz PackageFileSize: 316.1 KiB