Package: beachmat.hdf5 Version: 1.2.0 Command: /Library/Frameworks/R.framework/Resources/bin/R CMD build --keep-empty-dirs --no-resave-data beachmat.hdf5 StartedAt: 2024-06-09 18:27:00 -0400 (Sun, 09 Jun 2024) EndedAt: 2024-06-09 18:28:44 -0400 (Sun, 09 Jun 2024) EllapsedTime: 104.1 seconds RetCode: 0 Status: OK PackageFile: beachmat.hdf5_1.2.0.tar.gz PackageFileSize: 316.1 KiB