Package: beachmat.hdf5 Version: 1.2.0 Command: /home/biocbuild/bbs-3.19-bioc/R/bin/R CMD check --install=check:beachmat.hdf5.install-out.txt --library=/home/biocbuild/bbs-3.19-bioc/R/site-library --timings beachmat.hdf5_1.2.0.tar.gz StartedAt: 2024-10-16 21:54:24 -0400 (Wed, 16 Oct 2024) EndedAt: 2024-10-16 21:56:27 -0400 (Wed, 16 Oct 2024) EllapsedTime: 123.2 seconds RetCode: 0 Status: WARNINGS CheckDir: beachmat.hdf5.Rcheck Warnings: 1