Package: beachmat.hdf5 Version: 1.2.0 Command: chmod a+r beachmat.hdf5 -R && E:\biocbuild\bbs-3.19-bioc\R\bin\R.exe CMD build --keep-empty-dirs --no-resave-data beachmat.hdf5 StartedAt: 2024-10-16 17:42:32 -0400 (Wed, 16 Oct 2024) EndedAt: 2024-10-16 17:44:19 -0400 (Wed, 16 Oct 2024) EllapsedTime: 106.9 seconds RetCode: 0 Status: OK PackageFile: beachmat.hdf5_1.2.0.tar.gz PackageFileSize: 316.3 KiB