Package: beachmat.hdf5 Version: 1.2.0 Command: E:\biocbuild\bbs-3.19-bioc\R\bin\R.exe CMD check --no-multiarch --install=check:beachmat.hdf5.install-out.txt --library=E:\biocbuild\bbs-3.19-bioc\R\library --no-vignettes --timings beachmat.hdf5_1.2.0.tar.gz StartedAt: 2024-10-16 23:06:20 -0400 (Wed, 16 Oct 2024) EndedAt: 2024-10-16 23:09:26 -0400 (Wed, 16 Oct 2024) EllapsedTime: 185.4 seconds RetCode: 0 Status: OK CheckDir: beachmat.hdf5.Rcheck Warnings: 0