Package: beachmat.hdf5 Version: 1.2.0 Command: E:\biocbuild\bbs-3.19-bioc\R\bin\R.exe CMD INSTALL beachmat.hdf5 StartedAt: 2024-10-16 16:20:02 -0400 (Wed, 16 Oct 2024) EndedAt: 2024-10-16 16:21:23 -0400 (Wed, 16 Oct 2024) EllapsedTime: 81.6 seconds RetCode: 0 Status: OK