Package: beadarray Version: 2.54.0 Command: rm -rf beadarray.buildbin-libdir && mkdir beadarray.buildbin-libdir && /Users/biocbuild/BBS/utils/build-universal.sh beadarray_2.54.0.tar.gz /Library/Frameworks/R.framework/Resources/bin/R beadarray.buildbin-libdir StartedAt: 2024-10-18 17:26:04 -0400 (Fri, 18 Oct 2024) EndedAt: 2024-10-18 17:26:43 -0400 (Fri, 18 Oct 2024) EllapsedTime: 38.7 seconds RetCode: 0 Status: OK PackageFile: beadarray_2.54.0.tgz PackageFileSize: 4.751 MiB