Package: beadarray Version: 2.54.0 Command: /Library/Frameworks/R.framework/Resources/bin/R CMD build --keep-empty-dirs --no-resave-data beadarray StartedAt: 2024-10-16 20:01:25 -0400 (Wed, 16 Oct 2024) EndedAt: 2024-10-16 20:04:57 -0400 (Wed, 16 Oct 2024) EllapsedTime: 212.2 seconds RetCode: 0 Status: OK PackageFile: beadarray_2.54.0.tar.gz PackageFileSize: 2.563 MiB