Package: beadarray Version: 2.54.0 Command: /Library/Frameworks/R.framework/Resources/bin/R CMD INSTALL beadarray StartedAt: 2024-10-16 16:19:26 -0400 (Wed, 16 Oct 2024) EndedAt: 2024-10-16 16:19:57 -0400 (Wed, 16 Oct 2024) EllapsedTime: 31.0 seconds RetCode: 0 Status: OK