Package: beadarray Version: 2.54.0 Command: /Library/Frameworks/R.framework/Resources/bin/R CMD build --keep-empty-dirs --no-resave-data beadarray StartedAt: 2024-06-09 18:28:00 -0400 (Sun, 09 Jun 2024) EndedAt: 2024-06-09 18:32:08 -0400 (Sun, 09 Jun 2024) EllapsedTime: 248.1 seconds RetCode: 1 Status: ERROR PackageFile: None PackageFileSize: NA