Package: beadarray Version: 2.54.0 Command: /home/biocbuild/R/R-beta-2024-04-15_r86425/bin/R CMD check --install=check:beadarray.install-out.txt --library=/home/biocbuild/R/R-beta-2024-04-15_r86425/site-library --no-vignettes --timings beadarray_2.54.0.tar.gz StartedAt: 2024-05-09 05:04:12 -0000 (Thu, 09 May 2024) EndedAt: 2024-05-09 05:11:57 -0000 (Thu, 09 May 2024) EllapsedTime: 464.9 seconds RetCode: 0 Status: OK CheckDir: beadarray.Rcheck Warnings: 0