Package: beadarray Version: 2.54.0 Command: /home/biocbuild/bbs-3.19-bioc/R/bin/R CMD check --install=check:beadarray.install-out.txt --library=/home/biocbuild/bbs-3.19-bioc/R/site-library --timings beadarray_2.54.0.tar.gz StartedAt: 2024-10-16 21:54:25 -0400 (Wed, 16 Oct 2024) EndedAt: 2024-10-16 22:03:24 -0400 (Wed, 16 Oct 2024) EllapsedTime: 539.1 seconds RetCode: 0 Status: OK CheckDir: beadarray.Rcheck Warnings: 0