Package: beadarray Version: 2.54.0 Command: F:\biocbuild\bbs-3.19-bioc\R\bin\R.exe CMD INSTALL beadarray StartedAt: 2024-06-26 16:13:00 -0400 (Wed, 26 Jun 2024) EndedAt: 2024-06-26 16:13:54 -0400 (Wed, 26 Jun 2024) EllapsedTime: 53.4 seconds RetCode: 0 Status: OK