Package: beadarray Version: 2.54.0 Command: rm -rf beadarray.buildbin-libdir && mkdir beadarray.buildbin-libdir && E:\biocbuild\bbs-3.19-bioc\R\bin\R.exe CMD INSTALL --build --library=beadarray.buildbin-libdir beadarray_2.54.0.tar.gz StartedAt: 2024-10-17 07:23:08 -0400 (Thu, 17 Oct 2024) EndedAt: 2024-10-17 07:24:33 -0400 (Thu, 17 Oct 2024) EllapsedTime: 85.1 seconds RetCode: 0 Status: OK PackageFile: beadarray_2.54.0.zip PackageFileSize: 4.324 MiB