Package: beadarraySNP Version: 1.70.0 Command: /Library/Frameworks/R.framework/Resources/bin/R CMD INSTALL beadarraySNP StartedAt: 2024-10-16 16:23:33 -0400 (Wed, 16 Oct 2024) EndedAt: 2024-10-16 16:24:00 -0400 (Wed, 16 Oct 2024) EllapsedTime: 26.9 seconds RetCode: 0 Status: OK