Package: beadarraySNP Version: 1.70.0 Command: /home/biocbuild/bbs-3.19-bioc/R/bin/R CMD build --keep-empty-dirs --no-resave-data beadarraySNP StartedAt: 2024-10-16 17:07:02 -0400 (Wed, 16 Oct 2024) EndedAt: 2024-10-16 17:07:20 -0400 (Wed, 16 Oct 2024) EllapsedTime: 18.0 seconds RetCode: 0 Status: OK PackageFile: beadarraySNP_1.70.0.tar.gz PackageFileSize: 571.2 KiB