Package: beer Version: 1.8.0 Command: rm -rf beer.buildbin-libdir && mkdir beer.buildbin-libdir && /Users/biocbuild/BBS/utils/build-universal.sh beer_1.8.0.tar.gz /Library/Frameworks/R.framework/Resources/bin/R beer.buildbin-libdir StartedAt: 2024-10-18 17:27:02 -0400 (Fri, 18 Oct 2024) EndedAt: 2024-10-18 17:27:44 -0400 (Fri, 18 Oct 2024) EllapsedTime: 42.0 seconds RetCode: 0 Status: OK PackageFile: beer_1.8.0.tgz PackageFileSize: 701.1 KiB