Package: beer Version: 1.8.0 Command: /Library/Frameworks/R.framework/Resources/bin/R CMD INSTALL beer StartedAt: 2024-10-16 17:09:41 -0400 (Wed, 16 Oct 2024) EndedAt: 2024-10-16 17:10:16 -0400 (Wed, 16 Oct 2024) EllapsedTime: 34.8 seconds RetCode: 0 Status: OK