Package: betaHMM Version: 1.0.0 Command: rm -rf betaHMM.buildbin-libdir && mkdir betaHMM.buildbin-libdir && /Users/biocbuild/BBS/utils/build-universal.sh betaHMM_1.0.0.tar.gz /Library/Frameworks/R.framework/Resources/bin/R betaHMM.buildbin-libdir StartedAt: 2024-06-10 00:08:00 -0400 (Mon, 10 Jun 2024) EndedAt: 2024-06-10 00:08:36 -0400 (Mon, 10 Jun 2024) EllapsedTime: 36.1 seconds RetCode: 0 Status: OK PackageFile: betaHMM_1.0.0.tgz PackageFileSize: 3.919 MiB