Package: betaHMM Version: 1.0.0 Command: rm -rf betaHMM.buildbin-libdir && mkdir betaHMM.buildbin-libdir && /Users/biocbuild/BBS/utils/build-universal.sh betaHMM_1.0.0.tar.gz /Library/Frameworks/R.framework/Resources/bin/R betaHMM.buildbin-libdir StartedAt: 2024-10-17 15:41:52 -0400 (Thu, 17 Oct 2024) EndedAt: 2024-10-17 15:42:55 -0400 (Thu, 17 Oct 2024) EllapsedTime: 63.4 seconds RetCode: 0 Status: OK PackageFile: betaHMM_1.0.0.tgz PackageFileSize: 3.921 MiB