Package: bgx Version: 1.70.0 Command: rm -rf bgx.buildbin-libdir && mkdir bgx.buildbin-libdir && /Users/biocbuild/BBS/utils/build-universal.sh bgx_1.70.0.tar.gz /Library/Frameworks/R.framework/Resources/bin/R bgx.buildbin-libdir StartedAt: 2024-10-18 17:28:02 -0400 (Fri, 18 Oct 2024) EndedAt: 2024-10-18 17:28:52 -0400 (Fri, 18 Oct 2024) EllapsedTime: 49.6 seconds RetCode: 0 Status: OK PackageFile: bgx_1.70.0.tgz PackageFileSize: 391.4 KiB